BEGIN:VCALENDAR
VERSION:2.0
PRODID:-//Limburgse VvEs met Energie - ECPv6.15.20//NONSGML v1.0//EN
CALSCALE:GREGORIAN
METHOD:PUBLISH
X-WR-CALNAME:Limburgse VvEs met Energie
X-ORIGINAL-URL:https://lvme.nl
X-WR-CALDESC:Evenementen voor Limburgse VvEs met Energie
REFRESH-INTERVAL;VALUE=DURATION:PT1H
X-Robots-Tag:noindex
X-PUBLISHED-TTL:PT1H
BEGIN:VTIMEZONE
TZID:Europe/Helsinki
BEGIN:DAYLIGHT
TZOFFSETFROM:+0200
TZOFFSETTO:+0300
TZNAME:EEST
DTSTART:20230326T010000
END:DAYLIGHT
BEGIN:STANDARD
TZOFFSETFROM:+0300
TZOFFSETTO:+0200
TZNAME:EET
DTSTART:20231029T010000
END:STANDARD
BEGIN:DAYLIGHT
TZOFFSETFROM:+0200
TZOFFSETTO:+0300
TZNAME:EEST
DTSTART:20240331T010000
END:DAYLIGHT
BEGIN:STANDARD
TZOFFSETFROM:+0300
TZOFFSETTO:+0200
TZNAME:EET
DTSTART:20241027T010000
END:STANDARD
BEGIN:DAYLIGHT
TZOFFSETFROM:+0200
TZOFFSETTO:+0300
TZNAME:EEST
DTSTART:20250330T010000
END:DAYLIGHT
BEGIN:STANDARD
TZOFFSETFROM:+0300
TZOFFSETTO:+0200
TZNAME:EET
DTSTART:20251026T010000
END:STANDARD
END:VTIMEZONE
BEGIN:VEVENT
DTSTART;TZID=Europe/Helsinki:20241127T190000
DTEND;TZID=Europe/Helsinki:20241127T210000
DTSTAMP:20260419T212304
CREATED:20240507T104104Z
LAST-MODIFIED:20240614T144406Z
UID:2479-1732734000-1732741200@lvme.nl
SUMMARY:VvE-balie Heuvelland: Informatiebijeenkomst: De Business Case
DESCRIPTION:Hoe betaalt u en uw VvE de investeringen die nodig zijn om te verduurzamen? Er kan meer dan u denkt. We bespreken hoe u op een slimme manier meer duurzame maatregelen betaalbaarder kunt maken. En hoe u het financiële plan voor de verduurzaming stap voor stap nog beter kunt maken. \nDeelnemen is gratis. \n>> aanmelden voor de bijeenkomst
URL:https://lvme.nl/event/vve-balie-heuvelland-informatiebijeenkomst-de-businesscase/
LOCATION:Gemeente Eijsden-Margraten\, bevestiging locatie volgt hier
END:VEVENT
END:VCALENDAR