BEGIN:VCALENDAR
VERSION:2.0
PRODID:-//Limburgse VvEs met Energie - ECPv6.15.20//NONSGML v1.0//EN
CALSCALE:GREGORIAN
METHOD:PUBLISH
X-WR-CALNAME:Limburgse VvEs met Energie
X-ORIGINAL-URL:https://lvme.nl
X-WR-CALDESC:Evenementen voor Limburgse VvEs met Energie
REFRESH-INTERVAL;VALUE=DURATION:PT1H
X-Robots-Tag:noindex
X-PUBLISHED-TTL:PT1H
BEGIN:VTIMEZONE
TZID:Europe/Helsinki
BEGIN:DAYLIGHT
TZOFFSETFROM:+0200
TZOFFSETTO:+0300
TZNAME:EEST
DTSTART:20230326T010000
END:DAYLIGHT
BEGIN:STANDARD
TZOFFSETFROM:+0300
TZOFFSETTO:+0200
TZNAME:EET
DTSTART:20231029T010000
END:STANDARD
BEGIN:DAYLIGHT
TZOFFSETFROM:+0200
TZOFFSETTO:+0300
TZNAME:EEST
DTSTART:20240331T010000
END:DAYLIGHT
BEGIN:STANDARD
TZOFFSETFROM:+0300
TZOFFSETTO:+0200
TZNAME:EET
DTSTART:20241027T010000
END:STANDARD
BEGIN:DAYLIGHT
TZOFFSETFROM:+0200
TZOFFSETTO:+0300
TZNAME:EEST
DTSTART:20250330T010000
END:DAYLIGHT
BEGIN:STANDARD
TZOFFSETFROM:+0300
TZOFFSETTO:+0200
TZNAME:EET
DTSTART:20251026T010000
END:STANDARD
END:VTIMEZONE
BEGIN:VEVENT
DTSTART;TZID=Europe/Helsinki:20240625T190000
DTEND;TZID=Europe/Helsinki:20240625T210000
DTSTAMP:20260420T070727
CREATED:20231214T142927Z
LAST-MODIFIED:20231214T142927Z
UID:1982-1719342000-1719349200@lvme.nl
SUMMARY:VvE-energiebalie Maastricht: VvE Café
DESCRIPTION:Duurzame ambities met uw VvE\, maar wilt u niet het wiel opnieuw uitvinden? Wilt u graag horen hoe andere VvE’s dit aanpakken\, daarvan leren\, maar ook hun tips geven om hen verder te helpen? In het kader van de VvE Energiebalie Maastricht organiseren wij het VvE Café. \nDeelnemen is gratis. \n>> aanmelden voor de bijeenkomst \n 
URL:https://lvme.nl/event/vve-energiebalie-maastricht-vve-cafe/
LOCATION:Klimaathuis\, President Rooseveltlaan 217\, Maastricht
END:VEVENT
END:VCALENDAR