BEGIN:VCALENDAR
VERSION:2.0
PRODID:-//Limburgse VvEs met Energie - ECPv6.15.20//NONSGML v1.0//EN
CALSCALE:GREGORIAN
METHOD:PUBLISH
X-WR-CALNAME:Limburgse VvEs met Energie
X-ORIGINAL-URL:https://lvme.nl
X-WR-CALDESC:Evenementen voor Limburgse VvEs met Energie
REFRESH-INTERVAL;VALUE=DURATION:PT1H
X-Robots-Tag:noindex
X-PUBLISHED-TTL:PT1H
BEGIN:VTIMEZONE
TZID:Europe/Amsterdam
BEGIN:DAYLIGHT
TZOFFSETFROM:+0100
TZOFFSETTO:+0200
TZNAME:CEST
DTSTART:20230326T010000
END:DAYLIGHT
BEGIN:STANDARD
TZOFFSETFROM:+0200
TZOFFSETTO:+0100
TZNAME:CET
DTSTART:20231029T010000
END:STANDARD
BEGIN:DAYLIGHT
TZOFFSETFROM:+0100
TZOFFSETTO:+0200
TZNAME:CEST
DTSTART:20240331T010000
END:DAYLIGHT
BEGIN:STANDARD
TZOFFSETFROM:+0200
TZOFFSETTO:+0100
TZNAME:CET
DTSTART:20241027T010000
END:STANDARD
BEGIN:DAYLIGHT
TZOFFSETFROM:+0100
TZOFFSETTO:+0200
TZNAME:CEST
DTSTART:20250330T010000
END:DAYLIGHT
BEGIN:STANDARD
TZOFFSETFROM:+0200
TZOFFSETTO:+0100
TZNAME:CET
DTSTART:20251026T010000
END:STANDARD
END:VTIMEZONE
BEGIN:VEVENT
DTSTART;TZID=Europe/Amsterdam:20240307T140000
DTEND;TZID=Europe/Amsterdam:20240307T160000
DTSTAMP:20260422T121120
CREATED:20230902T095427Z
LAST-MODIFIED:20250317T125340Z
UID:1396-1709820000-1709827200@lvme.nl
SUMMARY:VvE-balies Maastricht & Heuvelland: Informatiebijeenkomst Subsidies en Leningen
DESCRIPTION:Is er subsidie voor bijvoorbeeld het isoleren van ons gebouw? Kan onze VvE geld lenen om energie te besparen?\nWij nemen u mee in de subsidies en leningen speciaal voor de verduurzaming van VvE’s: u krijgt uitleg uit eerste hand!\nExperts van de subsidie- en leningverstrekkers geven u een helder overzicht en de laatste update over mogelijkheden speciaal beschikbaar voor de verduurzaming van VvE’s.\nNa de bijeenkomst heeft u helder beeld over de verschillende subsidies en leningen\, de mogelijkheden en voorwaarden en hoe u er gebruik van kunt maken.\n\nDe bijeenkomst is speciaal voor appartementeigenaren\, bestuurders en beheerders van VvE’s.Deelnemen is gratis voor VvE’s in Maastricht en de 5 heuvellandgemeentes (Eijsden-Margraten\, Gulpen-Wittem\, Meerssen\, Vaals\, Valkenburg). \n>> aanmelden voor de bijeenkomst
URL:https://lvme.nl/event/informatiebijeenkomst-subsidies-en-leningen/
LOCATION:Stayokay Maastricht\, Maasboulevard 101\, Maastricht\, 6211 JW\, Nederland
END:VEVENT
END:VCALENDAR