BEGIN:VCALENDAR
VERSION:2.0
PRODID:-//Limburgse VvEs met Energie - ECPv6.15.20//NONSGML v1.0//EN
CALSCALE:GREGORIAN
METHOD:PUBLISH
X-WR-CALNAME:Limburgse VvEs met Energie
X-ORIGINAL-URL:https://lvme.nl
X-WR-CALDESC:Evenementen voor Limburgse VvEs met Energie
REFRESH-INTERVAL;VALUE=DURATION:PT1H
X-Robots-Tag:noindex
X-PUBLISHED-TTL:PT1H
BEGIN:VTIMEZONE
TZID:Europe/Helsinki
BEGIN:DAYLIGHT
TZOFFSETFROM:+0200
TZOFFSETTO:+0300
TZNAME:EEST
DTSTART:20230326T010000
END:DAYLIGHT
BEGIN:STANDARD
TZOFFSETFROM:+0300
TZOFFSETTO:+0200
TZNAME:EET
DTSTART:20231029T010000
END:STANDARD
BEGIN:DAYLIGHT
TZOFFSETFROM:+0200
TZOFFSETTO:+0300
TZNAME:EEST
DTSTART:20240331T010000
END:DAYLIGHT
BEGIN:STANDARD
TZOFFSETFROM:+0300
TZOFFSETTO:+0200
TZNAME:EET
DTSTART:20241027T010000
END:STANDARD
BEGIN:DAYLIGHT
TZOFFSETFROM:+0200
TZOFFSETTO:+0300
TZNAME:EEST
DTSTART:20250330T010000
END:DAYLIGHT
BEGIN:STANDARD
TZOFFSETFROM:+0300
TZOFFSETTO:+0200
TZNAME:EET
DTSTART:20251026T010000
END:STANDARD
END:VTIMEZONE
BEGIN:VEVENT
DTSTART;TZID=Europe/Helsinki:20241001T100000
DTEND;TZID=Europe/Helsinki:20241001T123000
DTSTAMP:20260419T224635
CREATED:20231213T113343Z
LAST-MODIFIED:20240614T142100Z
UID:1991-1727776800-1727785800@lvme.nl
SUMMARY:VvE-energiebalie Maastricht: Cursusserie VvE’s met Energie – deel 3
DESCRIPTION:Dagdeel 3 (van 3) van deze cursusserie. \nWe gaan weer aan de slag met Maastrichtse VvE’s! We bespreken  technische\, financiële en juridische aspecten waar u mee te maken krijgt in het proces van verduurzaming van uw VvE. Maar vooral geven we aandacht aan het werken aan draagvlak: dat moet immers leiden tot een ‘GO’ op de ALV. \nDe cursus beslaat 3 dagdelen: 3 september\, 17 september en 1 oktober 2024.\nDeelnemen is gratis. \n>> cursusopzet \n>> aanmelden voor de cursusreeks
URL:https://lvme.nl/event/vve-energiebalie-maastricht-cursusserie-vves-met-energie-deel-3/
LOCATION:Gemeente Maastricht\, bevestiging locatie volgt
END:VEVENT
BEGIN:VEVENT
DTSTART;TZID=Europe/Helsinki:20241004T123000
DTEND;TZID=Europe/Helsinki:20241004T163000
DTSTAMP:20260419T224635
CREATED:20240507T110914Z
LAST-MODIFIED:20240507T110914Z
UID:2495-1728045000-1728059400@lvme.nl
SUMMARY:VvE-balie Heuvelland: 1e-lijns hulp VvE's
DESCRIPTION:Uw VvE wil verduurzamen\, u heeft specifieke vragen en zoekt expertise?\nU loopt bij de verduurzaming van uw gebouw ergens tegenaan en u heeft hierover vragen? \nLVmE helpt u bij beantwoording\, deelt ervaring en wijst u in de juiste richting.\nIedere 1e vrijdag van de maand -met uitzondering van de schoolvakanties- houden wij afwisselend een ochtend of middag voor u vrij voor uw vragen voor of over uw VvE in verduurzaming op vragenvrijdag. \nDeelnemen is gratis voor VvE’s in de 5 heuvellandgemeentes (Eijsden-Margraten\, Gulpen-Wittem\, Meerssen\, Vaals\, Valkenburg). \n>> aanmelden voor 1e-lijns hulp
URL:https://lvme.nl/event/vve-balie-heuvelland-1e-lijns-hulp-vves-10/
LOCATION:Klimaathuis\, President Rooseveltlaan 217\, Maastricht
END:VEVENT
BEGIN:VEVENT
DTSTART;TZID=Europe/Helsinki:20241008T190000
DTEND;TZID=Europe/Helsinki:20241008T213000
DTSTAMP:20260419T224635
CREATED:20240323T111003Z
LAST-MODIFIED:20240614T143521Z
UID:2411-1728414000-1728423000@lvme.nl
SUMMARY:VvE-balie Heuvelland: Cursusserie VvE’s met Energie – deel 1
DESCRIPTION:Deel 1 (van 3)  van deze cursusserie in het Heuvelland. \nWe gaan aan de slag met VvE’s in de Heuvellandgemeentes! In 3 middagen bespreken we technische\, financiële en juridische aspecten waar u mee te maken krijgt in het proces van verduurzaming van uw VvE. Maar vooral geven we aandacht aan het werken aan draagvlak: dat moet immers leiden tot een ‘GO’ op de ALV. \nDe cursus beslaat 3 dagdelen: 8 oktober\, 22 oktober en 5 november 2024\, en is speciaal voor appartementseigenaren\, bestuurders en beheerders van VvE’s.\nDeelnemen is gratis voor VvE’s in de 5 heuvellandgemeentes (Eijsden-Margraten\, Gulpen-Wittem\, Meerssen\, Vaals\, Valkenburg). \n>> cursusopzet \n>> aanmelden voor de cursusreeks
URL:https://lvme.nl/event/vve-balie-heuvelland-cursusserie-vves-met-energie-avond-1/
LOCATION:Gemeente Valkenburg\, bevestiging locatie volgt
END:VEVENT
BEGIN:VEVENT
DTSTART;TZID=Europe/Helsinki:20241022T190000
DTEND;TZID=Europe/Helsinki:20241022T213000
DTSTAMP:20260419T224635
CREATED:20240323T111539Z
LAST-MODIFIED:20240614T143728Z
UID:2413-1729623600-1729632600@lvme.nl
SUMMARY:VvE-balie Heuvelland: Cursusserie VvE’s met Energie – deel 2
DESCRIPTION:Deel 2 (van 3)  van deze cursusserie in het Heuvelland. \nWe gaan aan de slag met VvE’s in de Heuvellandgemeentes! In 3 middagen bespreken we technische\, financiële en juridische aspecten waar u mee te maken krijgt in het proces van verduurzaming van uw VvE. Maar vooral geven we aandacht aan het werken aan draagvlak: dat moet immers leiden tot een ‘GO’ op de ALV. \nDe cursus beslaat 3 dagdelen: 8 oktober\, 22 oktober en 5 november 2024\, en is speciaal voor appartementseigenaren\, bestuurders en beheerders van VvE’s.\nDeelnemen is gratis voor VvE’s in de 5 heuvellandgemeentes (Eijsden-Margraten\, Gulpen-Wittem\, Meerssen\, Vaals\, Valkenburg). \n>> cursusopzet \n>> aanmelden voor de cursusreeks
URL:https://lvme.nl/event/vve-balie-heuvelland-cursusserie-vves-met-energie-avond-2/
LOCATION:Gemeente Valkenburg\, bevestiging locatie volgt
END:VEVENT
END:VCALENDAR