BEGIN:VCALENDAR
VERSION:2.0
PRODID:-//Limburgse VvEs met Energie - ECPv6.15.20//NONSGML v1.0//EN
CALSCALE:GREGORIAN
METHOD:PUBLISH
X-ORIGINAL-URL:https://lvme.nl
X-WR-CALDESC:Evenementen voor Limburgse VvEs met Energie
REFRESH-INTERVAL;VALUE=DURATION:PT1H
X-Robots-Tag:noindex
X-PUBLISHED-TTL:PT1H
BEGIN:VTIMEZONE
TZID:Europe/Amsterdam
BEGIN:DAYLIGHT
TZOFFSETFROM:+0100
TZOFFSETTO:+0200
TZNAME:CEST
DTSTART:20230326T010000
END:DAYLIGHT
BEGIN:STANDARD
TZOFFSETFROM:+0200
TZOFFSETTO:+0100
TZNAME:CET
DTSTART:20231029T010000
END:STANDARD
BEGIN:DAYLIGHT
TZOFFSETFROM:+0100
TZOFFSETTO:+0200
TZNAME:CEST
DTSTART:20240331T010000
END:DAYLIGHT
BEGIN:STANDARD
TZOFFSETFROM:+0200
TZOFFSETTO:+0100
TZNAME:CET
DTSTART:20241027T010000
END:STANDARD
BEGIN:DAYLIGHT
TZOFFSETFROM:+0100
TZOFFSETTO:+0200
TZNAME:CEST
DTSTART:20250330T010000
END:DAYLIGHT
BEGIN:STANDARD
TZOFFSETFROM:+0200
TZOFFSETTO:+0100
TZNAME:CET
DTSTART:20251026T010000
END:STANDARD
END:VTIMEZONE
BEGIN:VTIMEZONE
TZID:Europe/Helsinki
BEGIN:DAYLIGHT
TZOFFSETFROM:+0200
TZOFFSETTO:+0300
TZNAME:EEST
DTSTART:20230326T010000
END:DAYLIGHT
BEGIN:STANDARD
TZOFFSETFROM:+0300
TZOFFSETTO:+0200
TZNAME:EET
DTSTART:20231029T010000
END:STANDARD
BEGIN:DAYLIGHT
TZOFFSETFROM:+0200
TZOFFSETTO:+0300
TZNAME:EEST
DTSTART:20240331T010000
END:DAYLIGHT
BEGIN:STANDARD
TZOFFSETFROM:+0300
TZOFFSETTO:+0200
TZNAME:EET
DTSTART:20241027T010000
END:STANDARD
BEGIN:DAYLIGHT
TZOFFSETFROM:+0200
TZOFFSETTO:+0300
TZNAME:EEST
DTSTART:20250330T010000
END:DAYLIGHT
BEGIN:STANDARD
TZOFFSETFROM:+0300
TZOFFSETTO:+0200
TZNAME:EET
DTSTART:20251026T010000
END:STANDARD
END:VTIMEZONE
BEGIN:VEVENT
DTSTART;TZID=Europe/Amsterdam:20240404T140000
DTEND;TZID=Europe/Amsterdam:20240404T163000
DTSTAMP:20260420T085024
CREATED:20230902T090639Z
LAST-MODIFIED:20250317T125242Z
UID:1369-1712239200-1712248200@lvme.nl
SUMMARY:VvE-balie Heuvelland: Cursusserie VvE’s met Energie – middag 2
DESCRIPTION:Deel 2 (van 3)  van deze cursusserie in het Heuvelland. \nWe gaan aan de slag met VvE’s in de Heuvellandgemeentes! In 3 middagen bespreken we technische\, financiële en juridische aspecten waar u mee te maken krijgt in het proces van verduurzaming van uw VvE. Maar vooral geven we aandacht aan het werken aan draagvlak: dat moet immers leiden tot een ‘GO’ op de ALV. \nDe cursus beslaat 3 middagen: 21 maart\, 4 april en 18 april 2024\, en is speciaal voor appartementseigenaren\, bestuurders en beheerders van VvE’s.\nDeelnemen is gratis voor VvE’s in de 5 heuvellandgemeentes (Eijsden-Margraten\, Gulpen-Wittem\, Meerssen\, Vaals\, Valkenburg). \n>> cursusopzet \n>> aanmelden voor de cursusreeks
URL:https://lvme.nl/event/cursus-heuvellandse-vves-met-energie-middag-2/
LOCATION:Conne5t\, Markt 5a\, Meerssen\, 6231 LR
END:VEVENT
BEGIN:VEVENT
DTSTART;TZID=Europe/Helsinki:20240412T093000
DTEND;TZID=Europe/Helsinki:20240412T133000
DTSTAMP:20260420T085024
CREATED:20231109T121622Z
LAST-MODIFIED:20240220T123139Z
UID:1917-1712914200-1712928600@lvme.nl
SUMMARY:VvE-balie Heuvelland: 1e-lijns hulp VvE's
DESCRIPTION:Uw VvE wil verduurzamen\, u heeft specifieke vragen en zoekt expertise?\nU loopt bij de verduurzaming van uw gebouw ergens tegenaan en u heeft hierover vragen? \nLVmE helpt u bij beantwoording\, deelt ervaring en wijst u in de juiste richting.\nIedere 2e vrijdagochtend van de maand -met uitzondering van de schoolvakanties- houden wij voor u vrij voor uw vragen voor of over uw VvE in verduurzaming op vragenvrijdag. \nDeelnemen is gratis voor VvE’s in de 5 heuvellandgemeentes (Eijsden-Margraten\, Gulpen-Wittem\, Meerssen\, Vaals\, Valkenburg). \n>> aanmelden voor 1e-lijns hulp
URL:https://lvme.nl/event/vve-balie-heuvelland-1e-lijns-hulp-vves-5/
LOCATION:WoonWijzerWinkel Limburg\, Roda J.C. Ring 61\, Kerkrade\, Nederland
END:VEVENT
BEGIN:VEVENT
DTSTART;TZID=Europe/Amsterdam:20240418T140000
DTEND;TZID=Europe/Amsterdam:20240418T163000
DTSTAMP:20260420T085024
CREATED:20230902T090944Z
LAST-MODIFIED:20250317T125154Z
UID:1371-1713448800-1713457800@lvme.nl
SUMMARY:VvE-balie Heuvelland: Cursusserie VvE’s met Energie – middag 3
DESCRIPTION:Deel 3 (van 3)  van deze cursusserie in het Heuvelland. \nWe gaan aan de slag met VvE’s in de Heuvellandgemeentes! In 3 middagen bespreken we technische\, financiële en juridische aspecten waar u mee te maken krijgt in het proces van verduurzaming van uw VvE. Maar vooral geven we aandacht aan het werken aan draagvlak: dat moet immers leiden tot een ‘GO’ op de ALV. \nDe cursus beslaat 3 middagen: 21 maart\, 4 april en 18 april 2024\, en is speciaal voor appartementseigenaren\, bestuurders en beheerders van VvE’s.\nDeelnemen is gratis voor VvE’s in de 5 heuvellandgemeentes (Eijsden-Margraten\, Gulpen-Wittem\, Meerssen\, Vaals\, Valkenburg). \n>> cursusopzet \n>> aanmelden voor de cursusreeks
URL:https://lvme.nl/event/1371/
LOCATION:Conne5t\, Markt 5a\, Meerssen\, 6231 LR
END:VEVENT
END:VCALENDAR