BEGIN:VCALENDAR
VERSION:2.0
PRODID:-//Limburgse VvEs met Energie - ECPv6.15.20//NONSGML v1.0//EN
CALSCALE:GREGORIAN
METHOD:PUBLISH
X-WR-CALNAME:Limburgse VvEs met Energie
X-ORIGINAL-URL:https://lvme.nl
X-WR-CALDESC:Evenementen voor Limburgse VvEs met Energie
REFRESH-INTERVAL;VALUE=DURATION:PT1H
X-Robots-Tag:noindex
X-PUBLISHED-TTL:PT1H
BEGIN:VTIMEZONE
TZID:Europe/Amsterdam
BEGIN:DAYLIGHT
TZOFFSETFROM:+0100
TZOFFSETTO:+0200
TZNAME:CEST
DTSTART:20220327T010000
END:DAYLIGHT
BEGIN:STANDARD
TZOFFSETFROM:+0200
TZOFFSETTO:+0100
TZNAME:CET
DTSTART:20221030T010000
END:STANDARD
BEGIN:DAYLIGHT
TZOFFSETFROM:+0100
TZOFFSETTO:+0200
TZNAME:CEST
DTSTART:20230326T010000
END:DAYLIGHT
BEGIN:STANDARD
TZOFFSETFROM:+0200
TZOFFSETTO:+0100
TZNAME:CET
DTSTART:20231029T010000
END:STANDARD
BEGIN:DAYLIGHT
TZOFFSETFROM:+0100
TZOFFSETTO:+0200
TZNAME:CEST
DTSTART:20240331T010000
END:DAYLIGHT
BEGIN:STANDARD
TZOFFSETFROM:+0200
TZOFFSETTO:+0100
TZNAME:CET
DTSTART:20241027T010000
END:STANDARD
END:VTIMEZONE
BEGIN:VEVENT
DTSTART;TZID=Europe/Amsterdam:20230509T190000
DTEND;TZID=Europe/Amsterdam:20230509T210000
DTSTAMP:20260423T024530
CREATED:20230407T090600Z
LAST-MODIFIED:20250317T130050Z
UID:822-1683658800-1683666000@lvme.nl
SUMMARY:VvE-balie Maastricht: Thema-avond de business case; hoe gaan we dat betalen?
DESCRIPTION:Hoe betaalt u de investeringen die nodig zijn om te verduurzamen? Er kan meer dan u denkt. We bespreken hoe u op een slimme manier meer duurzame maatregelen betaalbaarder kunt maken. We bespreken stap voor stap hoe u het financiële plan voor de verduurzaming nog beter kunt maken. \nDeelnemen is gratis. \n>> aanmelden voor de bijeenkomst
URL:https://lvme.nl/event/thema-avond-de-business-case-hoe-gaan-we-dat-betalen/
LOCATION:Klimaathuis\, President Rooseveltlaan 217\, Maastricht
END:VEVENT
END:VCALENDAR