BEGIN:VCALENDAR
VERSION:2.0
PRODID:-//Limburgse VvEs met Energie - ECPv6.15.20//NONSGML v1.0//EN
CALSCALE:GREGORIAN
METHOD:PUBLISH
X-ORIGINAL-URL:https://lvme.nl
X-WR-CALDESC:Evenementen voor Limburgse VvEs met Energie
REFRESH-INTERVAL;VALUE=DURATION:PT1H
X-Robots-Tag:noindex
X-PUBLISHED-TTL:PT1H
BEGIN:VTIMEZONE
TZID:Europe/Amsterdam
BEGIN:DAYLIGHT
TZOFFSETFROM:+0100
TZOFFSETTO:+0200
TZNAME:CEST
DTSTART:20230326T010000
END:DAYLIGHT
BEGIN:STANDARD
TZOFFSETFROM:+0200
TZOFFSETTO:+0100
TZNAME:CET
DTSTART:20231029T010000
END:STANDARD
BEGIN:DAYLIGHT
TZOFFSETFROM:+0100
TZOFFSETTO:+0200
TZNAME:CEST
DTSTART:20240331T010000
END:DAYLIGHT
BEGIN:STANDARD
TZOFFSETFROM:+0200
TZOFFSETTO:+0100
TZNAME:CET
DTSTART:20241027T010000
END:STANDARD
BEGIN:DAYLIGHT
TZOFFSETFROM:+0100
TZOFFSETTO:+0200
TZNAME:CEST
DTSTART:20250330T010000
END:DAYLIGHT
BEGIN:STANDARD
TZOFFSETFROM:+0200
TZOFFSETTO:+0100
TZNAME:CET
DTSTART:20251026T010000
END:STANDARD
END:VTIMEZONE
BEGIN:VEVENT
DTSTART;TZID=Europe/Amsterdam:20240620T190000
DTEND;TZID=Europe/Amsterdam:20240620T210000
DTSTAMP:20260420T103948
CREATED:20230902T093429Z
LAST-MODIFIED:20250317T125000Z
UID:1389-1718910000-1718917200@lvme.nl
SUMMARY:VvE-balie Heuvelland: VvE Café
DESCRIPTION:Niet opnieuw het wiel uitvinden!\nU heeft ambities met uw VvE\, die gaan over verduurzaming. Maar voordat u start wilt u eigenlijk wel eens horen hoe andere VvE’s dat aanpakken? Of misschien heeft u al stappen gezet\, al hindernissen genomen en ervaringen opgedaan en wilt u die wel delen met andere VvE’s? Wilt u eens een afspraak maken met een andere VvE en kijken hoe zij het hebben aangepakt? Graag brengen wij u met elkaar in contact.\nWij hebben VvE’s uitgenodigd om hun casus te presenteren\, aan de hand waarvan we kunnen leren en ook tips geven. Daarnaast zullen we nog eens de aanpak in een notendop toelichten. Vervolgens gaan we met elkaar in gesprek: plenair of onderling\, bij een kop koffie.\nDe bijeenkomst is speciaal voor appartementseigenaren\, bestuurders en beheerders van VvE’s.\nDeelnemen is gratis voor VvE’s in de 5 heuvellandgemeentes (Eijsden-Margraten\, Gulpen-Wittem\, Meerssen\, Vaals\, Valkenburg). \n>> aanmelden voor de bijeenkomst
URL:https://lvme.nl/event/vve-cafe-heuvelland-2/
LOCATION:Gemeente Vaals\, Von Clermontplein 15\, Vaals\, 6291 AT\, Nederland
END:VEVENT
END:VCALENDAR