BEGIN:VCALENDAR
VERSION:2.0
PRODID:-//Limburgse VvEs met Energie - ECPv6.15.20//NONSGML v1.0//EN
CALSCALE:GREGORIAN
METHOD:PUBLISH
X-ORIGINAL-URL:https://lvme.nl
X-WR-CALDESC:Evenementen voor Limburgse VvEs met Energie
REFRESH-INTERVAL;VALUE=DURATION:PT1H
X-Robots-Tag:noindex
X-PUBLISHED-TTL:PT1H
BEGIN:VTIMEZONE
TZID:Europe/Amsterdam
BEGIN:DAYLIGHT
TZOFFSETFROM:+0100
TZOFFSETTO:+0200
TZNAME:CEST
DTSTART:20220327T010000
END:DAYLIGHT
BEGIN:STANDARD
TZOFFSETFROM:+0200
TZOFFSETTO:+0100
TZNAME:CET
DTSTART:20221030T010000
END:STANDARD
BEGIN:DAYLIGHT
TZOFFSETFROM:+0100
TZOFFSETTO:+0200
TZNAME:CEST
DTSTART:20230326T010000
END:DAYLIGHT
BEGIN:STANDARD
TZOFFSETFROM:+0200
TZOFFSETTO:+0100
TZNAME:CET
DTSTART:20231029T010000
END:STANDARD
BEGIN:DAYLIGHT
TZOFFSETFROM:+0100
TZOFFSETTO:+0200
TZNAME:CEST
DTSTART:20240331T010000
END:DAYLIGHT
BEGIN:STANDARD
TZOFFSETFROM:+0200
TZOFFSETTO:+0100
TZNAME:CET
DTSTART:20241027T010000
END:STANDARD
END:VTIMEZONE
BEGIN:VEVENT
DTSTART;TZID=Europe/Amsterdam:20231110T093000
DTEND;TZID=Europe/Amsterdam:20231110T133000
DTSTAMP:20260422T222325
CREATED:20230618T120946Z
LAST-MODIFIED:20250317T125719Z
UID:1059-1699608600-1699623000@lvme.nl
SUMMARY:VvE-balie Heuvelland: 1e-lijns hulp VvE's
DESCRIPTION:Uw VvE wil verduurzamen\, u heeft specifieke vragen en zoekt expertise?\nU loopt bij de verduurzaming van uw gebouw ergens tegenaan en u heeft hierover vragen? \nLVmE helpt u bij beantwoording\, deelt ervaring en wijst u in de juiste richting.\nIedere 2e vrijdagochtend van de maand -met uitzondering van de schoolvakanties- houden wij voor u vrij voor uw vragen voor of over uw VvE in verduurzaming op vragenvrijdag. \nDeelnemen is gratis voor VvE’s in de 5 heuvellandgemeentes (Eijsden-Margraten\, Gulpen-Wittem\, Meerssen\, Vaals\, Valkenburg). \n>> aanmelden voor 1e-lijns hulp
URL:https://lvme.nl/event/1e-lijns-ondersteuning-vves-heuvelland/
LOCATION:Klimaathuis\, President Rooseveltlaan 217\, Maastricht
END:VEVENT
END:VCALENDAR