BEGIN:VCALENDAR
VERSION:2.0
PRODID:-//Limburgse VvEs met Energie - ECPv6.15.20//NONSGML v1.0//EN
CALSCALE:GREGORIAN
METHOD:PUBLISH
X-ORIGINAL-URL:https://lvme.nl
X-WR-CALDESC:Evenementen voor Limburgse VvEs met Energie
REFRESH-INTERVAL;VALUE=DURATION:PT1H
X-Robots-Tag:noindex
X-PUBLISHED-TTL:PT1H
BEGIN:VTIMEZONE
TZID:Europe/Amsterdam
BEGIN:DAYLIGHT
TZOFFSETFROM:+0100
TZOFFSETTO:+0200
TZNAME:CEST
DTSTART:20220327T010000
END:DAYLIGHT
BEGIN:STANDARD
TZOFFSETFROM:+0200
TZOFFSETTO:+0100
TZNAME:CET
DTSTART:20221030T010000
END:STANDARD
BEGIN:DAYLIGHT
TZOFFSETFROM:+0100
TZOFFSETTO:+0200
TZNAME:CEST
DTSTART:20230326T010000
END:DAYLIGHT
BEGIN:STANDARD
TZOFFSETFROM:+0200
TZOFFSETTO:+0100
TZNAME:CET
DTSTART:20231029T010000
END:STANDARD
BEGIN:DAYLIGHT
TZOFFSETFROM:+0100
TZOFFSETTO:+0200
TZNAME:CEST
DTSTART:20240331T010000
END:DAYLIGHT
BEGIN:STANDARD
TZOFFSETFROM:+0200
TZOFFSETTO:+0100
TZNAME:CET
DTSTART:20241027T010000
END:STANDARD
END:VTIMEZONE
BEGIN:VEVENT
DTSTART;TZID=Europe/Amsterdam:20231101T190000
DTEND;TZID=Europe/Amsterdam:20231101T213000
DTSTAMP:20260422T222205
CREATED:20230618T115526Z
LAST-MODIFIED:20250317T125826Z
UID:943-1698865200-1698874200@lvme.nl
SUMMARY:VvE-balie Heuvelland: Cursusserie VvE’s met Energie – avond 2
DESCRIPTION:Deel 2 (van 3) van deze cursusserie in het Heuvelland. \nWe gaan aan de slag met VvE’s in de heuvellandgemeentes! In 3 avonden bespreken we technische\, financiële en juridische aspecten waar u mee te maken krijgt in het proces van verduurzaming van uw VvE. Maar vooral geven we aandacht aan het werken aan draagvlak: dat moet immers leiden tot een ‘GO’ op de ALV. \nDe cursus beslaat 3 avonden: 18 oktober\, 1 november en 15 november 2023\, en is speciaal voor appartementseigenaren\, bestuurders en beheerders van VvE’s.\nDeelnemen is gratis voor VvE’s in de 5 heuvellandgemeentes (Eijsden-Margraten\, Gulpen-Wittem\, Meerssen\, Vaals\, Valkenburg). \n>> cursusopzet \n>> aanmelden voor de cursusreeks
URL:https://lvme.nl/event/cursus-heuvellandse-vves-met-energie-dag-2/
END:VEVENT
END:VCALENDAR