BEGIN:VCALENDAR
VERSION:2.0
PRODID:-//Limburgse VvEs met Energie - ECPv6.15.20//NONSGML v1.0//EN
CALSCALE:GREGORIAN
METHOD:PUBLISH
X-WR-CALNAME:Limburgse VvEs met Energie
X-ORIGINAL-URL:https://lvme.nl
X-WR-CALDESC:Evenementen voor Limburgse VvEs met Energie
REFRESH-INTERVAL;VALUE=DURATION:PT1H
X-Robots-Tag:noindex
X-PUBLISHED-TTL:PT1H
BEGIN:VTIMEZONE
TZID:Europe/Helsinki
BEGIN:DAYLIGHT
TZOFFSETFROM:+0200
TZOFFSETTO:+0300
TZNAME:EEST
DTSTART:20230326T010000
END:DAYLIGHT
BEGIN:STANDARD
TZOFFSETFROM:+0300
TZOFFSETTO:+0200
TZNAME:EET
DTSTART:20231029T010000
END:STANDARD
BEGIN:DAYLIGHT
TZOFFSETFROM:+0200
TZOFFSETTO:+0300
TZNAME:EEST
DTSTART:20240331T010000
END:DAYLIGHT
BEGIN:STANDARD
TZOFFSETFROM:+0300
TZOFFSETTO:+0200
TZNAME:EET
DTSTART:20241027T010000
END:STANDARD
BEGIN:DAYLIGHT
TZOFFSETFROM:+0200
TZOFFSETTO:+0300
TZNAME:EEST
DTSTART:20250330T010000
END:DAYLIGHT
BEGIN:STANDARD
TZOFFSETFROM:+0300
TZOFFSETTO:+0200
TZNAME:EET
DTSTART:20251026T010000
END:STANDARD
END:VTIMEZONE
BEGIN:VTIMEZONE
TZID:Europe/Amsterdam
BEGIN:DAYLIGHT
TZOFFSETFROM:+0100
TZOFFSETTO:+0200
TZNAME:CEST
DTSTART:20230326T010000
END:DAYLIGHT
BEGIN:STANDARD
TZOFFSETFROM:+0200
TZOFFSETTO:+0100
TZNAME:CET
DTSTART:20231029T010000
END:STANDARD
BEGIN:DAYLIGHT
TZOFFSETFROM:+0100
TZOFFSETTO:+0200
TZNAME:CEST
DTSTART:20240331T010000
END:DAYLIGHT
BEGIN:STANDARD
TZOFFSETFROM:+0200
TZOFFSETTO:+0100
TZNAME:CET
DTSTART:20241027T010000
END:STANDARD
BEGIN:DAYLIGHT
TZOFFSETFROM:+0100
TZOFFSETTO:+0200
TZNAME:CEST
DTSTART:20250330T010000
END:DAYLIGHT
BEGIN:STANDARD
TZOFFSETFROM:+0200
TZOFFSETTO:+0100
TZNAME:CET
DTSTART:20251026T010000
END:STANDARD
END:VTIMEZONE
BEGIN:VEVENT
DTSTART;TZID=Europe/Helsinki:20240510T093000
DTEND;TZID=Europe/Helsinki:20240510T133000
DTSTAMP:20260420T103317
CREATED:20231109T121809Z
LAST-MODIFIED:20240220T120922Z
UID:1919-1715333400-1715347800@lvme.nl
SUMMARY:VvE-balie Heuvelland: 1e-lijns hulp VvE's
DESCRIPTION:Uw VvE wil verduurzamen\, u heeft specifieke vragen en zoekt expertise?\nU loopt bij de verduurzaming van uw gebouw ergens tegenaan en u heeft hierover vragen? \nLVmE helpt u bij beantwoording\, deelt ervaring en wijst u in de juiste richting.\nIedere 2e vrijdagochtend van de maand -met uitzondering van de schoolvakanties- houden wij voor u vrij voor uw vragen voor of over uw VvE in verduurzaming op vragenvrijdag. \nDeelnemen is gratis voor VvE’s in de 5 heuvellandgemeentes (Eijsden-Margraten\, Gulpen-Wittem\, Meerssen\, Vaals\, Valkenburg). \n>> aanmelden voor 1e-lijns hulp
URL:https://lvme.nl/event/vve-balie-heuvelland-1e-lijns-hulp-vves-6/
LOCATION:Klimaathuis\, President Rooseveltlaan 217\, Maastricht
END:VEVENT
BEGIN:VEVENT
DTSTART;TZID=Europe/Amsterdam:20240523T190000
DTEND;TZID=Europe/Amsterdam:20240523T210000
DTSTAMP:20260420T103317
CREATED:20230902T094541Z
LAST-MODIFIED:20250317T125048Z
UID:1392-1716490800-1716498000@lvme.nl
SUMMARY:VvE-balie Heuvelland: Informatiebijeenkomst TransitieVisie Warmte
DESCRIPTION:Alle gemeenten in Nederland hebben een Transitievisie Warmte opgesteld. Deze visie beschrijft de ambities en oplossingsrichtingen om stapsgewijs te komen tot verduurzaamde en aardgasvrije woningen. Wat betekent dit voor u en uw VvE?\nDe bijeenkomst is speciaal voor appartementseigenaren\, bestuurders en beheerders van VvE’s.\nDeelnemen is gratis voor VvE’s in de 5 heuvellandgemeentes (Eijsden-Margraten\, Gulpen-Wittem\, Meerssen\, Vaals\, Valkenburg). \n>> aanmelden voor de bijeenkomst
URL:https://lvme.nl/event/informatiebijeenkomst-transitievisie-warmte/
LOCATION:Wielderhoes\, Van Wachtendonckplein 26\, Wijlre\, Limburg\, 6321BG\, Nederland
END:VEVENT
BEGIN:VEVENT
DTSTART;TZID=Europe/Helsinki:20240528T190000
DTEND;TZID=Europe/Helsinki:20240528T210000
DTSTAMP:20260420T103317
CREATED:20231214T143016Z
LAST-MODIFIED:20231214T144256Z
UID:1984-1716922800-1716930000@lvme.nl
SUMMARY:VvE-energiebalie Maastricht: Thema-avond De business case
DESCRIPTION:Hoe betaalt u en uw VvE de investeringen die nodig zijn om te verduurzamen? Er kan meer dan u denkt. We bespreken hoe u op een slimme manier meer duurzame maatregelen betaalbaarder kunt maken. En hoe u het financiële plan voor de verduurzaming stap voor stap nog beter kunt maken. \nDeelnemen is gratis. \n>> aanmelden voor de bijeenkomst
URL:https://lvme.nl/event/vve-energiebalie-maastricht-thema-avond-de-business-case/
LOCATION:Klimaathuis\, President Rooseveltlaan 217\, Maastricht
END:VEVENT
END:VCALENDAR